BEGIN:VCALENDAR
PRODID:-//eluceo/ical//2.0/EN
VERSION:2.0
CALSCALE:GREGORIAN
BEGIN:VEVENT
UID:b127416e05194da54abc3bbe84f5dea1
DTSTAMP:20260425T235908Z
SUMMARY:Access MBA Tour: Atlanta
DTSTART:20250920T140000Z
DTEND:20250920T184500Z
END:VEVENT
END:VCALENDAR
