BEGIN:VCALENDAR
PRODID:-//eluceo/ical//2.0/EN
VERSION:2.0
CALSCALE:GREGORIAN
BEGIN:VEVENT
UID:35d37b462612b5eb87f27e7227cdd36e
DTSTAMP:20260421T030402Z
SUMMARY:HireUC Alumni Career Summit
DTSTART:20250821T190000Z
DTEND:20250821T220000Z
END:VEVENT
END:VCALENDAR
