BEGIN:VCALENDAR
PRODID:-//eluceo/ical//2.0/EN
VERSION:2.0
CALSCALE:GREGORIAN
BEGIN:VEVENT
UID:059279022634801b1867ad300d4ee729
DTSTAMP:20260419T204728Z
SUMMARY:Information Session: Accounting and Technology Management Minors
DTSTART:20250827T163000Z
DTEND:20250827T173000Z
END:VEVENT
END:VCALENDAR
