BEGIN:VCALENDAR
PRODID:-//eluceo/ical//2.0/EN
VERSION:2.0
CALSCALE:GREGORIAN
BEGIN:VEVENT
UID:75e9f9c326975c26d5265b7cfe90e3f8
DTSTAMP:20260421T032922Z
SUMMARY:MPAc Student Ambassador Virtual Coffee Chat
DTSTART:20251215T180000Z
DTEND:20251215T190000Z
END:VEVENT
END:VCALENDAR
