BEGIN:VCALENDAR
PRODID:-//eluceo/ical//2.0/EN
VERSION:2.0
CALSCALE:GREGORIAN
BEGIN:VEVENT
UID:590ee3853eadf08c41c36f648a5848d8
DTSTAMP:20260419T193546Z
SUMMARY:MPAc Student Ambassador Virtual Coffee Chat
DTSTART:20251124T180000Z
DTEND:20251124T190000Z
END:VEVENT
END:VCALENDAR
