BEGIN:VCALENDAR
PRODID:-//eluceo/ical//2.0/EN
VERSION:2.0
CALSCALE:GREGORIAN
BEGIN:VEVENT
UID:ad39eae70e3c72db2b1c17c17f0385e6
DTSTAMP:20260421T101639Z
SUMMARY:MPAc Student Ambassador Virtual Coffee Chat
DTSTART:20251027T170000Z
DTEND:20251027T180000Z
END:VEVENT
END:VCALENDAR
