BEGIN:VCALENDAR
PRODID:-//eluceo/ical//2.0/EN
VERSION:2.0
CALSCALE:GREGORIAN
BEGIN:VEVENT
UID:22a51fee6bbfc5f5079f53b565d7e5ea
DTSTAMP:20260422T163849Z
SUMMARY:Bay Area Part-Time MBA Capstone Course Virtual Information Session
DTSTART:20250815T190000Z
DTEND:20250815T194500Z
END:VEVENT
END:VCALENDAR
