BEGIN:VCALENDAR
PRODID:-//eluceo/ical//2.0/EN
VERSION:2.0
CALSCALE:GREGORIAN
BEGIN:VEVENT
UID:8c7257e901a4c2d39f5a475b55dd89f5
DTSTAMP:20260425T003521Z
SUMMARY:Bay Area Part-Time Master of Management Application Deadline: Round
  1
DTSTART:20251105T080000Z
DTEND:20251106T075900Z
END:VEVENT
END:VCALENDAR
