BEGIN:VCALENDAR
PRODID:-//eluceo/ical//2.0/EN
VERSION:2.0
CALSCALE:GREGORIAN
BEGIN:VEVENT
UID:685b889fde8bd79e48604ccfee95ccda
DTSTAMP:20260422T194452Z
SUMMARY:Bay Area Part-Time Master of Management Application Deadline: Round
  2
DTSTART:20260107T080000Z
DTEND:20260108T075900Z
END:VEVENT
END:VCALENDAR
