BEGIN:VCALENDAR
PRODID:-//eluceo/ical//2.0/EN
VERSION:2.0
CALSCALE:GREGORIAN
BEGIN:VEVENT
UID:a7983b8c044c0b5469a566a25cee69b7
DTSTAMP:20260423T060529Z
SUMMARY:Bay Area Part-Time Master of Management Application Deadline: Round
  4
DTSTART:20260513T070000Z
DTEND:20260514T065900Z
END:VEVENT
END:VCALENDAR
