BEGIN:VCALENDAR
PRODID:-//eluceo/ical//2.0/EN
VERSION:2.0
CALSCALE:GREGORIAN
BEGIN:VEVENT
UID:35c08d216f0277e7e4021aed1dac7d80
DTSTAMP:20260419T214201Z
SUMMARY:Bay Area Part-Time Master of Management Application Deadline: Round
  5
DTSTART:20260708T070000Z
DTEND:20260709T065900Z
END:VEVENT
END:VCALENDAR
