BEGIN:VCALENDAR
PRODID:-//eluceo/ical//2.0/EN
VERSION:2.0
CALSCALE:GREGORIAN
BEGIN:VEVENT
UID:49eefb77fbe79eb013d3b973e9d0efbc
DTSTAMP:20260425T011156Z
SUMMARY:Full-Time MBA Student Ambassador Virtual Coffee Chat
DTSTART:20250924T170000Z
DTEND:20250924T180000Z
END:VEVENT
END:VCALENDAR
