BEGIN:VCALENDAR
PRODID:-//eluceo/ical//2.0/EN
VERSION:2.0
CALSCALE:GREGORIAN
BEGIN:VEVENT
UID:0f1be59f5e1fa24ce6df0578b9b62d9c
DTSTAMP:20260423T072243Z
SUMMARY:SIEML Alumni Networking Event in Atlanta
DTSTART:20250919T213000Z
DTEND:20250919T233000Z
END:VEVENT
END:VCALENDAR
