BEGIN:VCALENDAR
PRODID:-//eluceo/ical//2.0/EN
VERSION:2.0
CALSCALE:GREGORIAN
BEGIN:VEVENT
UID:b95bb7219ef3ee6fac3038b75b7b52a4
DTSTAMP:20260422T191352Z
SUMMARY:MBA Class Visit in Davis: The Individual and Group Dynamics
DTSTART:20251001T201000Z
DTEND:20251002T000000Z
END:VEVENT
END:VCALENDAR
