BEGIN:VCALENDAR
PRODID:-//eluceo/ical//2.0/EN
VERSION:2.0
CALSCALE:GREGORIAN
BEGIN:VEVENT
UID:21fc5d1c0717cf5f647d72707f2a9fae
DTSTAMP:20260419T193546Z
SUMMARY:MBA Class Visit in Davis: The Individual and Group Dynamics
DTSTART:20251015T201000Z
DTEND:20251016T000000Z
END:VEVENT
END:VCALENDAR
