BEGIN:VCALENDAR
PRODID:-//eluceo/ical//2.0/EN
VERSION:2.0
CALSCALE:GREGORIAN
BEGIN:VEVENT
UID:e460bb7e20d93ebf0effe4f7e1fe6d4e
DTSTAMP:20260419T214201Z
SUMMARY:MBA Class Visit in Davis: The Individual and Group Dynamics
DTSTART:20251029T201000Z
DTEND:20251030T000000Z
END:VEVENT
END:VCALENDAR
