BEGIN:VCALENDAR
PRODID:-//eluceo/ical//2.0/EN
VERSION:2.0
CALSCALE:GREGORIAN
BEGIN:VEVENT
UID:8c863006189422d19271d2fb2fd86d4c
DTSTAMP:20260421T030342Z
SUMMARY:MBA Class Visit in Davis: The Individual and Group Dynamics
DTSTART:20251105T211000Z
DTEND:20251106T010000Z
END:VEVENT
END:VCALENDAR
