BEGIN:VCALENDAR
PRODID:-//eluceo/ical//2.0/EN
VERSION:2.0
CALSCALE:GREGORIAN
BEGIN:VEVENT
UID:47825fdf0fc13979d3bb2f0b745c97b7
DTSTAMP:20260420T013029Z
SUMMARY:Sacramento State Grad Fest
DTSTART:20251007T170000Z
DTEND:20251008T220000Z
END:VEVENT
END:VCALENDAR
