BEGIN:VCALENDAR
PRODID:-//eluceo/ical//2.0/EN
VERSION:2.0
CALSCALE:GREGORIAN
BEGIN:VEVENT
UID:f70ce8e9798629733c71610c4ad4e10d
DTSTAMP:20260422T012548Z
SUMMARY:MPAc Student Ambassador Virtual Coffee Chat
DTSTART:20260112T180000Z
DTEND:20260112T190000Z
END:VEVENT
END:VCALENDAR
