BEGIN:VCALENDAR
PRODID:-//eluceo/ical//2.0/EN
VERSION:2.0
CALSCALE:GREGORIAN
BEGIN:VEVENT
UID:3cebb5d11880acc25e24ad6bd18b790b
DTSTAMP:20260419T204727Z
SUMMARY:MPAc Student Ambassador Virtual Coffee Chat
DTSTART:20260121T000000Z
DTEND:20260121T010000Z
END:VEVENT
END:VCALENDAR
