BEGIN:VCALENDAR
PRODID:-//eluceo/ical//2.0/EN
VERSION:2.0
CALSCALE:GREGORIAN
BEGIN:VEVENT
UID:a120430caacbbc9161c42bec0da45aad
DTSTAMP:20260420T050239Z
SUMMARY:MPAc Student Ambassador Virtual Coffee Chat
DTSTART:20260126T180000Z
DTEND:20260126T190000Z
END:VEVENT
END:VCALENDAR
