BEGIN:VCALENDAR
PRODID:-//eluceo/ical//2.0/EN
VERSION:2.0
CALSCALE:GREGORIAN
BEGIN:VEVENT
UID:df3d05485699f8ffa7551e9a2e94f6f2
DTSTAMP:20260419T193546Z
SUMMARY:MPAc Student Ambassador Virtual Coffee Chat
DTSTART:20260225T000000Z
DTEND:20260225T010000Z
END:VEVENT
END:VCALENDAR
