BEGIN:VCALENDAR
PRODID:-//eluceo/ical//2.0/EN
VERSION:2.0
CALSCALE:GREGORIAN
BEGIN:VEVENT
UID:4437a0cab03913d2f498a52aab667031
DTSTAMP:20260422T031331Z
SUMMARY:MPAc Student Ambassador Virtual Coffee Chat
DTSTART:20260309T170000Z
DTEND:20260309T180000Z
END:VEVENT
END:VCALENDAR
