BEGIN:VCALENDAR
PRODID:-//eluceo/ical//2.0/EN
VERSION:2.0
CALSCALE:GREGORIAN
BEGIN:VEVENT
UID:3337eef93be68d1936f996c8d9ec9889
DTSTAMP:20260419T145936Z
SUMMARY:GMAC The MBA + Master's Tour Spotlight: STEM Degrees
DTSTART:20260219T170000Z
DTEND:20260219T193000Z
END:VEVENT
END:VCALENDAR
