BEGIN:VCALENDAR
PRODID:-//eluceo/ical//2.0/EN
VERSION:2.0
CALSCALE:GREGORIAN
BEGIN:VEVENT
UID:95bd7d8eca9cd2f5c2f64b6a6bef41b1
DTSTAMP:20260419T234204Z
SUMMARY:The MBA Tour: Los Angeles
DTSTART:20260324T003000Z
DTEND:20260324T030000Z
END:VEVENT
END:VCALENDAR
