BEGIN:VCALENDAR
PRODID:-//eluceo/ical//2.0/EN
VERSION:2.0
CALSCALE:GREGORIAN
BEGIN:VEVENT
UID:6f440eae759fc6b0c5b40bab5765e94d
DTSTAMP:20260420T012959Z
SUMMARY:MPAc Student Ambassador Virtual Coffee Chat
DTSTART:20260413T170000Z
DTEND:20260413T180000Z
END:VEVENT
END:VCALENDAR
