BEGIN:VCALENDAR
PRODID:-//eluceo/ical//2.0/EN
VERSION:2.0
CALSCALE:GREGORIAN
BEGIN:VEVENT
UID:51e6e2eb9fa95b0e7fb2f3eed22ea27e
DTSTAMP:20260419T145936Z
SUMMARY:MPAc Student Ambassador Virtual Coffee Chat
DTSTART:20260427T170000Z
DTEND:20260427T180000Z
END:VEVENT
END:VCALENDAR
