BEGIN:VCALENDAR
PRODID:-//eluceo/ical//2.0/EN
VERSION:2.0
CALSCALE:GREGORIAN
BEGIN:VEVENT
UID:52d161cbdceb76ef3932ef7b545f3aea
DTSTAMP:20260419T215329Z
SUMMARY:MPAc Student Ambassador Virtual Coffee Chat
DTSTART:20260511T170000Z
DTEND:20260511T180000Z
END:VEVENT
END:VCALENDAR
