BEGIN:VCALENDAR
PRODID:-//eluceo/ical//2.0/EN
VERSION:2.0
CALSCALE:GREGORIAN
BEGIN:VEVENT
UID:69b8e5fafcae6c4bdf31a4b3096a891e
DTSTAMP:20260421T040327Z
SUMMARY:Full-Time MBA Virtual Coffee Chat: Student & Faculty Perspectives
DTSTART:20260423T230000Z
DTEND:20260424T000000Z
END:VEVENT
END:VCALENDAR
