BEGIN:VCALENDAR
PRODID:-//eluceo/ical//2.0/EN
VERSION:2.0
CALSCALE:GREGORIAN
BEGIN:VEVENT
UID:19d241593afc42413889015dc1310ab0
DTSTAMP:20260421T095845Z
SUMMARY:2026 TGFS at UC Davis
DTSTART:20260506T183000Z
DTEND:20260506T203000Z
END:VEVENT
END:VCALENDAR
