BEGIN:VCALENDAR
PRODID:-//eluceo/ical//2.0/EN
VERSION:2.0
CALSCALE:GREGORIAN
BEGIN:VEVENT
UID:6164929e5769c826dd8fc506824be526
DTSTAMP:20260419T170343Z
SUMMARY:Picnic Day Waffle Social
DTSTART:20260418T150000Z
DTEND:20260418T170000Z
END:VEVENT
END:VCALENDAR
