BEGIN:VCALENDAR
PRODID:-//eluceo/ical//2.0/EN
VERSION:2.0
CALSCALE:GREGORIAN
BEGIN:VEVENT
UID:94982404dce1db64d74f714e65004e4d
DTSTAMP:20260423T193255Z
SUMMARY:Webinar: Powering the Future–Clean Energy\, Procurement & Innovat
 ion
DTSTART:20260423T000000Z
DTEND:20260423T010000Z
END:VEVENT
END:VCALENDAR
