BEGIN:VCALENDAR
PRODID:-//eluceo/ical//2.0/EN
VERSION:2.0
CALSCALE:GREGORIAN
BEGIN:VEVENT
UID:34aad95a87deef5f1770763606d51046
DTSTAMP:20260421T065129Z
SUMMARY:BHA Presents: Behind the Pipeline of Biotech
DTSTART:20260423T010000Z
DTEND:20260423T023000Z
END:VEVENT
END:VCALENDAR
