BEGIN:VCALENDAR
PRODID:-//eluceo/ical//2.0/EN
VERSION:2.0
CALSCALE:GREGORIAN
BEGIN:VEVENT
UID:143630c0954d2a75b29f72a4de593bbf
DTSTAMP:20260422T023325Z
SUMMARY:Full-Time MBA Virtual Coffee Chat: Student & Faculty Perspectives
DTSTART:20260424T190000Z
DTEND:20260424T200000Z
END:VEVENT
END:VCALENDAR
