BEGIN:VCALENDAR
PRODID:-//eluceo/ical//2.0/EN
VERSION:2.0
CALSCALE:GREGORIAN
BEGIN:VEVENT
UID:9504f953cda6b81098e903041dd093a6
DTSTAMP:20260421T065129Z
SUMMARY:Full-Time MBA Virtual Coffee Chat: Student & Faculty Perspectives
DTSTART:20260422T180000Z
DTEND:20260422T190000Z
END:VEVENT
END:VCALENDAR
